BEGIN:VCALENDAR
VERSION:2.0
PRODID:-//The Share Studios - ECPv6.15.20//NONSGML v1.0//EN
CALSCALE:GREGORIAN
METHOD:PUBLISH
X-ORIGINAL-URL:https://thesharestudios.com
X-WR-CALDESC:Events for The Share Studios
REFRESH-INTERVAL;VALUE=DURATION:PT1H
X-Robots-Tag:noindex
X-PUBLISHED-TTL:PT1H
BEGIN:VTIMEZONE
TZID:UTC
BEGIN:STANDARD
TZOFFSETFROM:+0000
TZOFFSETTO:+0000
TZNAME:UTC
DTSTART:20220101T000000
END:STANDARD
END:VTIMEZONE
BEGIN:VEVENT
DTSTART;TZID=UTC:20231210T110000
DTEND;TZID=UTC:20231210T150000
DTSTAMP:20260423T205925
CREATED:20231002T033410Z
LAST-MODIFIED:20231002T044443Z
UID:20621-1702206000-1702220400@thesharestudios.com
SUMMARY:Advanced Studio Photography
DESCRIPTION:
URL:https://thesharestudios.com/event/advanced-studio-photography/
LOCATION:The Share Studios\, 3005 Sigman St\, Fayetteville\, NC\, 28303\, United States
CATEGORIES:Education Classes
ORGANIZER;CN="Brian Livingston":MAILTO:Brian@thesharestudios.com
END:VEVENT
BEGIN:VEVENT
DTSTART;TZID=UTC:20231119T100000
DTEND;TZID=UTC:20231119T140000
DTSTAMP:20260423T205925
CREATED:20231002T030533Z
LAST-MODIFIED:20231002T044506Z
UID:20617-1700388000-1700402400@thesharestudios.com
SUMMARY:Basic Studio Photography
DESCRIPTION:
URL:https://thesharestudios.com/event/basic-studio-photography/
LOCATION:The Share Studios\, 3005 Sigman St\, Fayetteville\, NC\, 28303\, United States
CATEGORIES:Education Classes
ORGANIZER;CN="Brian Livingston":MAILTO:Brian@thesharestudios.com
END:VEVENT
BEGIN:VEVENT
DTSTART;TZID=UTC:20231024T170000
DTEND;TZID=UTC:20231024T210000
DTSTAMP:20260423T205925
CREATED:20231001T154353Z
LAST-MODIFIED:20231002T044614Z
UID:20392-1698166800-1698181200@thesharestudios.com
SUMMARY:PODCASTING 102
DESCRIPTION:After you have have a few podcasts completed\, you may want to increase your audience\, content and technique.  This 4-hour class will be divided in education and hands-on podcasting in the studio.  This class requires a minimum of 4 students. \nCost $65
URL:https://thesharestudios.com/event/podcasting-102/
LOCATION:NC
CATEGORIES:Education Classes
END:VEVENT
BEGIN:VEVENT
DTSTART;TZID=UTC:20231022T140000
DTEND;TZID=UTC:20231022T180000
DTSTAMP:20260423T205925
CREATED:20231001T214741Z
LAST-MODIFIED:20231002T044542Z
UID:20530-1697983200-1697997600@thesharestudios.com
SUMMARY:PODCASTING 101
DESCRIPTION:Students will learn in a fast paced course on how to produce a podcast from the brainstorm stage through to a fully formed podcast. Course will go over the different styles of podcasts and how to apply each to your content. Learn which equipment is best suited for your podcast – recorders\, microphones and software. Learn to edit professional sounding audio. Practice script writing and interview best practices Finally\, Students will get a hands-on opportunity to participate in a video-podcast\, producing\, editing and uploading a podcast pilot episode using your new skills.
URL:https://thesharestudios.com/event/podcasting-101/
LOCATION:NC
CATEGORIES:Education Classes
END:VEVENT
END:VCALENDAR